BEGIN:VCALENDAR
VERSION:2.0
PRODID:-//Feuerwehr Gescher - ECPv6.15.20//NONSGML v1.0//EN
CALSCALE:GREGORIAN
METHOD:PUBLISH
X-ORIGINAL-URL:https://www.feuerwehr-gescher.de
X-WR-CALDESC:Veranstaltungen für Feuerwehr Gescher
REFRESH-INTERVAL;VALUE=DURATION:PT1H
X-Robots-Tag:noindex
X-PUBLISHED-TTL:PT1H
BEGIN:VTIMEZONE
TZID:Europe/Berlin
BEGIN:DAYLIGHT
TZOFFSETFROM:+0100
TZOFFSETTO:+0200
TZNAME:CEST
DTSTART:20240331T010000
END:DAYLIGHT
BEGIN:STANDARD
TZOFFSETFROM:+0200
TZOFFSETTO:+0100
TZNAME:CET
DTSTART:20241027T010000
END:STANDARD
BEGIN:DAYLIGHT
TZOFFSETFROM:+0100
TZOFFSETTO:+0200
TZNAME:CEST
DTSTART:20250330T010000
END:DAYLIGHT
BEGIN:STANDARD
TZOFFSETFROM:+0200
TZOFFSETTO:+0100
TZNAME:CET
DTSTART:20251026T010000
END:STANDARD
BEGIN:DAYLIGHT
TZOFFSETFROM:+0100
TZOFFSETTO:+0200
TZNAME:CEST
DTSTART:20260329T010000
END:DAYLIGHT
BEGIN:STANDARD
TZOFFSETFROM:+0200
TZOFFSETTO:+0100
TZNAME:CET
DTSTART:20261025T010000
END:STANDARD
END:VTIMEZONE
BEGIN:VEVENT
DTSTART;TZID=Europe/Berlin:20251014T170000
DTEND;TZID=Europe/Berlin:20251014T183000
DTSTAMP:20260422T214344
CREATED:20250107T101052Z
LAST-MODIFIED:20250107T101052Z
UID:23364-1760461200-1760466600@www.feuerwehr-gescher.de
SUMMARY:Kinderfeuerwehr: Übung mit der Jugendfeuerwehr
DESCRIPTION:
URL:https://www.feuerwehr-gescher.de/event/kinderfeuerwehr-uebung-mit-der-jugendfeuerwehr/
CATEGORIES:Jugendfeuerwehr,Kinderfeuerwehr
END:VEVENT
BEGIN:VEVENT
DTSTART;TZID=Europe/Berlin:20251014T180000
DTEND;TZID=Europe/Berlin:20251014T200000
DTSTAMP:20260422T214344
CREATED:20250107T093033Z
LAST-MODIFIED:20250107T093236Z
UID:23316-1760464800-1760472000@www.feuerwehr-gescher.de
SUMMARY:Jugendfeuerwehr: Personensuche
DESCRIPTION:
URL:https://www.feuerwehr-gescher.de/event/jugendfeuerwehr-personensuche/
CATEGORIES:Jugendfeuerwehr
END:VEVENT
END:VCALENDAR