BEGIN:VCALENDAR
VERSION:2.0
PRODID:-//Feuerwehr Gescher - ECPv6.15.20//NONSGML v1.0//EN
CALSCALE:GREGORIAN
METHOD:PUBLISH
X-WR-CALNAME:Feuerwehr Gescher
X-ORIGINAL-URL:https://www.feuerwehr-gescher.de
X-WR-CALDESC:Veranstaltungen für Feuerwehr Gescher
REFRESH-INTERVAL;VALUE=DURATION:PT1H
X-Robots-Tag:noindex
X-PUBLISHED-TTL:PT1H
BEGIN:VTIMEZONE
TZID:Europe/Berlin
BEGIN:DAYLIGHT
TZOFFSETFROM:+0100
TZOFFSETTO:+0200
TZNAME:CEST
DTSTART:20250330T010000
END:DAYLIGHT
BEGIN:STANDARD
TZOFFSETFROM:+0200
TZOFFSETTO:+0100
TZNAME:CET
DTSTART:20251026T010000
END:STANDARD
BEGIN:DAYLIGHT
TZOFFSETFROM:+0100
TZOFFSETTO:+0200
TZNAME:CEST
DTSTART:20260329T010000
END:DAYLIGHT
BEGIN:STANDARD
TZOFFSETFROM:+0200
TZOFFSETTO:+0100
TZNAME:CET
DTSTART:20261025T010000
END:STANDARD
BEGIN:DAYLIGHT
TZOFFSETFROM:+0100
TZOFFSETTO:+0200
TZNAME:CEST
DTSTART:20270328T010000
END:DAYLIGHT
BEGIN:STANDARD
TZOFFSETFROM:+0200
TZOFFSETTO:+0100
TZNAME:CET
DTSTART:20271031T010000
END:STANDARD
END:VTIMEZONE
BEGIN:VEVENT
DTSTART;TZID=Europe/Berlin:20260107T180000
DTEND;TZID=Europe/Berlin:20260107T200000
DTSTAMP:20260424T160147
CREATED:20260106T090609Z
LAST-MODIFIED:20260106T090609Z
UID:24250-1767808800-1767816000@www.feuerwehr-gescher.de
SUMMARY:Jugendfeuerwehr Gruppe B: Feuerlöschtrainer
DESCRIPTION:
URL:https://www.feuerwehr-gescher.de/event/jugendfeuerwehr-gruppe-b-feuerloeschtrainer/
CATEGORIES:Jugendfeuerwehr
END:VEVENT
BEGIN:VEVENT
DTSTART;TZID=Europe/Berlin:20260107T190000
DTEND;TZID=Europe/Berlin:20260107T220000
DTSTAMP:20260424T160147
CREATED:20260105T150942Z
LAST-MODIFIED:20260106T160900Z
UID:24105-1767812400-1767823200@www.feuerwehr-gescher.de
SUMMARY:Führungskräftefortbildung „Stammtischparolen“
DESCRIPTION:
URL:https://www.feuerwehr-gescher.de/event/fuehrungskraeftefortbildung-stammtischparolen/
CATEGORIES:BM-Termine
END:VEVENT
END:VCALENDAR