BEGIN:VCALENDAR
VERSION:2.0
PRODID:-//Feuerwehr Gescher - ECPv6.15.20//NONSGML v1.0//EN
CALSCALE:GREGORIAN
METHOD:PUBLISH
X-WR-CALNAME:Feuerwehr Gescher
X-ORIGINAL-URL:https://www.feuerwehr-gescher.de
X-WR-CALDESC:Veranstaltungen für Feuerwehr Gescher
REFRESH-INTERVAL;VALUE=DURATION:PT1H
X-Robots-Tag:noindex
X-PUBLISHED-TTL:PT1H
BEGIN:VTIMEZONE
TZID:Europe/Berlin
BEGIN:DAYLIGHT
TZOFFSETFROM:+0100
TZOFFSETTO:+0200
TZNAME:CEST
DTSTART:20250330T010000
END:DAYLIGHT
BEGIN:STANDARD
TZOFFSETFROM:+0200
TZOFFSETTO:+0100
TZNAME:CET
DTSTART:20251026T010000
END:STANDARD
BEGIN:DAYLIGHT
TZOFFSETFROM:+0100
TZOFFSETTO:+0200
TZNAME:CEST
DTSTART:20260329T010000
END:DAYLIGHT
BEGIN:STANDARD
TZOFFSETFROM:+0200
TZOFFSETTO:+0100
TZNAME:CET
DTSTART:20261025T010000
END:STANDARD
BEGIN:DAYLIGHT
TZOFFSETFROM:+0100
TZOFFSETTO:+0200
TZNAME:CEST
DTSTART:20270328T010000
END:DAYLIGHT
BEGIN:STANDARD
TZOFFSETFROM:+0200
TZOFFSETTO:+0100
TZNAME:CET
DTSTART:20271031T010000
END:STANDARD
END:VTIMEZONE
BEGIN:VEVENT
DTSTART;VALUE=DATE:20260307
DTEND;VALUE=DATE:20260308
DTSTAMP:20260422T122924
CREATED:20260106T090955Z
LAST-MODIFIED:20260106T090955Z
UID:24262-1772841600-1772927999@www.feuerwehr-gescher.de
SUMMARY:Jugendfeuerwehr Gesamt: DASA Dortmund
DESCRIPTION:
URL:https://www.feuerwehr-gescher.de/event/jugendfeuerwehr-gesamt-dasa-dortmund/
CATEGORIES:Jugendfeuerwehr
END:VEVENT
BEGIN:VEVENT
DTSTART;TZID=Europe/Berlin:20260307T193000
DTEND;TZID=Europe/Berlin:20260307T220000
DTSTAMP:20260422T122924
CREATED:20260105T151220Z
LAST-MODIFIED:20260105T151220Z
UID:24113-1772911800-1772920800@www.feuerwehr-gescher.de
SUMMARY:TM-Ausbildung
DESCRIPTION:
URL:https://www.feuerwehr-gescher.de/event/tm-ausbildung-2/
CATEGORIES:Ausbildung
END:VEVENT
END:VCALENDAR