BEGIN:VCALENDAR
VERSION:2.0
PRODID:-//Feuerwehr Gescher - ECPv6.15.20//NONSGML v1.0//EN
CALSCALE:GREGORIAN
METHOD:PUBLISH
X-WR-CALNAME:Feuerwehr Gescher
X-ORIGINAL-URL:https://www.feuerwehr-gescher.de
X-WR-CALDESC:Veranstaltungen für Feuerwehr Gescher
REFRESH-INTERVAL;VALUE=DURATION:PT1H
X-Robots-Tag:noindex
X-PUBLISHED-TTL:PT1H
BEGIN:VTIMEZONE
TZID:Europe/Berlin
BEGIN:DAYLIGHT
TZOFFSETFROM:+0100
TZOFFSETTO:+0200
TZNAME:CEST
DTSTART:20240331T010000
END:DAYLIGHT
BEGIN:STANDARD
TZOFFSETFROM:+0200
TZOFFSETTO:+0100
TZNAME:CET
DTSTART:20241027T010000
END:STANDARD
BEGIN:DAYLIGHT
TZOFFSETFROM:+0100
TZOFFSETTO:+0200
TZNAME:CEST
DTSTART:20250330T010000
END:DAYLIGHT
BEGIN:STANDARD
TZOFFSETFROM:+0200
TZOFFSETTO:+0100
TZNAME:CET
DTSTART:20251026T010000
END:STANDARD
BEGIN:DAYLIGHT
TZOFFSETFROM:+0100
TZOFFSETTO:+0200
TZNAME:CEST
DTSTART:20260329T010000
END:DAYLIGHT
BEGIN:STANDARD
TZOFFSETFROM:+0200
TZOFFSETTO:+0100
TZNAME:CET
DTSTART:20261025T010000
END:STANDARD
END:VTIMEZONE
BEGIN:VEVENT
DTSTART;VALUE=DATE:20250503
DTEND;VALUE=DATE:20250504
DTSTAMP:20260423T044213
CREATED:20250103T104241Z
LAST-MODIFIED:20250103T104241Z
UID:23140-1746230400-1746316799@www.feuerwehr-gescher.de
SUMMARY:Maigang
DESCRIPTION:
URL:https://www.feuerwehr-gescher.de/event/maigang/
CATEGORIES:Feste
END:VEVENT
BEGIN:VEVENT
DTSTART;VALUE=DATE:20250503
DTEND;VALUE=DATE:20250504
DTSTAMP:20260423T044213
CREATED:20250103T133854Z
LAST-MODIFIED:20250103T133854Z
UID:23227-1746230400-1746316799@www.feuerwehr-gescher.de
SUMMARY:LZ Hochmoor: Maibaum aufstellen
DESCRIPTION:
URL:https://www.feuerwehr-gescher.de/event/lz-hochmoor-maibaum-aufstellen/
CATEGORIES:LZ Hochmoor
END:VEVENT
BEGIN:VEVENT
DTSTART;TZID=Europe/Berlin:20250506T193000
DTEND;TZID=Europe/Berlin:20250506T220000
DTSTAMP:20260423T044213
CREATED:20250103T105901Z
LAST-MODIFIED:20250103T105901Z
UID:23174-1746559800-1746568800@www.feuerwehr-gescher.de
SUMMARY:Dienstabend LZ Hochmoor: Brändverläufe und Thermik / Bedienung Digitalfunkgeräte
DESCRIPTION:
URL:https://www.feuerwehr-gescher.de/event/dienstabend-lz-hochmoor-braendverlaeufe-und-thermik-bedienung-digitalfunkgeraete/
CATEGORIES:LZ Hochmoor
END:VEVENT
BEGIN:VEVENT
DTSTART;TZID=Europe/Berlin:20250508T193000
DTEND;TZID=Europe/Berlin:20250508T220000
DTSTAMP:20260423T044213
CREATED:20250103T095114Z
LAST-MODIFIED:20250103T095114Z
UID:23029-1746732600-1746741600@www.feuerwehr-gescher.de
SUMMARY:Dienstabend LZ Gescher: Zugübungen ABC-Übung / Brandeinsatz
DESCRIPTION:
URL:https://www.feuerwehr-gescher.de/event/dienstabend-lz-gescher-zuguebungen-abc-uebung-brandeinsatz/
CATEGORIES:LZ Gescher
END:VEVENT
BEGIN:VEVENT
DTSTART;VALUE=DATE:20250510
DTEND;VALUE=DATE:20250511
DTSTAMP:20260423T044213
CREATED:20250103T104315Z
LAST-MODIFIED:20250103T104315Z
UID:23142-1746835200-1746921599@www.feuerwehr-gescher.de
SUMMARY:Spalier Hochzeit Hanna u. Lucas Schering
DESCRIPTION:
URL:https://www.feuerwehr-gescher.de/event/spalier-hochzeit-hanna-u-lucas-schering/
CATEGORIES:Feste
END:VEVENT
BEGIN:VEVENT
DTSTART;VALUE=DATE:20250511
DTEND;VALUE=DATE:20250512
DTSTAMP:20260423T044213
CREATED:20250107T091520Z
LAST-MODIFIED:20250107T091520Z
UID:23298-1746921600-1747007999@www.feuerwehr-gescher.de
SUMMARY:Jugendfeuerwehr: Jugendflamme 1 & 2 & 3 in Borken
DESCRIPTION:
URL:https://www.feuerwehr-gescher.de/event/jugendfeuerwehr-jugendflamme-1-2-3-in-borken/
CATEGORIES:Jugendfeuerwehr
END:VEVENT
BEGIN:VEVENT
DTSTART;TZID=Europe/Berlin:20250513T180000
DTEND;TZID=Europe/Berlin:20250513T200000
DTSTAMP:20260423T044213
CREATED:20250107T091559Z
LAST-MODIFIED:20250107T091559Z
UID:23300-1747159200-1747166400@www.feuerwehr-gescher.de
SUMMARY:Jugendfeuerwehr: Schwimmen
DESCRIPTION:
URL:https://www.feuerwehr-gescher.de/event/jugendfeuerwehr-schwimmen/
CATEGORIES:Jugendfeuerwehr
END:VEVENT
BEGIN:VEVENT
DTSTART;TZID=Europe/Berlin:20250515T193000
DTEND;TZID=Europe/Berlin:20250515T220000
DTSTAMP:20260423T044213
CREATED:20250103T103143Z
LAST-MODIFIED:20250103T103143Z
UID:23104-1747337400-1747346400@www.feuerwehr-gescher.de
SUMMARY:IUK-Gruppe Dienst
DESCRIPTION:
URL:https://www.feuerwehr-gescher.de/event/iuk-gruppe-dienst-3/
CATEGORIES:IUK
END:VEVENT
BEGIN:VEVENT
DTSTART;TZID=Europe/Berlin:20250516T170000
DTEND;TZID=Europe/Berlin:20250516T183000
DTSTAMP:20260423T044213
CREATED:20250107T100122Z
LAST-MODIFIED:20250107T100122Z
UID:23344-1747414800-1747420200@www.feuerwehr-gescher.de
SUMMARY:Kinderfeuerwehr: Gruppe 1 Sport Kinderflamme
DESCRIPTION:
URL:https://www.feuerwehr-gescher.de/event/kinderfeuerwehr-gruppe-1-sport-kinderflamme/
CATEGORIES:Kinderfeuerwehr
END:VEVENT
BEGIN:VEVENT
DTSTART;TZID=Europe/Berlin:20250517T143000
DTEND;TZID=Europe/Berlin:20250517T170000
DTSTAMP:20260423T044213
CREATED:20250103T103700Z
LAST-MODIFIED:20250103T103700Z
UID:23118-1747492200-1747501200@www.feuerwehr-gescher.de
SUMMARY:Kreisbereitschaft Dienst
DESCRIPTION:
URL:https://www.feuerwehr-gescher.de/event/kreisbereitschaft-dienst-5/
CATEGORIES:Kreisbereitschaft
END:VEVENT
BEGIN:VEVENT
DTSTART;TZID=Europe/Berlin:20250520T193000
DTEND;TZID=Europe/Berlin:20250520T220000
DTSTAMP:20260423T044213
CREATED:20250103T110000Z
LAST-MODIFIED:20250103T110000Z
UID:23176-1747769400-1747778400@www.feuerwehr-gescher.de
SUMMARY:Dienstabend LZ Hochmoor: Crespello BMA und Brandbekämpfung
DESCRIPTION:
URL:https://www.feuerwehr-gescher.de/event/dienstabend-lz-hochmoor-crespello-bma-und-brandbekaempfung/
CATEGORIES:LZ Hochmoor
END:VEVENT
BEGIN:VEVENT
DTSTART;TZID=Europe/Berlin:20250522T193000
DTEND;TZID=Europe/Berlin:20250522T220000
DTSTAMP:20260423T044213
CREATED:20250103T095218Z
LAST-MODIFIED:20250103T095218Z
UID:23031-1747942200-1747951200@www.feuerwehr-gescher.de
SUMMARY:Dienstabend LZ Gescher: Stationsausbildung / Zugübung mit THW
DESCRIPTION:
URL:https://www.feuerwehr-gescher.de/event/dienstabend-lz-gescher-stationsausbildung-zuguebung-mit-thw/
CATEGORIES:LZ Gescher
END:VEVENT
BEGIN:VEVENT
DTSTART;TZID=Europe/Berlin:20250523T170000
DTEND;TZID=Europe/Berlin:20250523T183000
DTSTAMP:20260423T044213
CREATED:20250107T100159Z
LAST-MODIFIED:20250107T100159Z
UID:23346-1748019600-1748025000@www.feuerwehr-gescher.de
SUMMARY:Kinderfeuerwehr: Gruppe 2 Sport Kinderflamme
DESCRIPTION:
URL:https://www.feuerwehr-gescher.de/event/kinderfeuerwehr-gruppe-2-sport-kinderflamme/
CATEGORIES:Kinderfeuerwehr
END:VEVENT
BEGIN:VEVENT
DTSTART;TZID=Europe/Berlin:20250527T180000
DTEND;TZID=Europe/Berlin:20250527T200000
DTSTAMP:20260423T044213
CREATED:20250107T092129Z
LAST-MODIFIED:20250107T092129Z
UID:23302-1748368800-1748376000@www.feuerwehr-gescher.de
SUMMARY:Jugendfeuerwehr: Haus Hall
DESCRIPTION:
URL:https://www.feuerwehr-gescher.de/event/jugendfeuerwehr-haus-hall/
CATEGORIES:Jugendfeuerwehr
END:VEVENT
BEGIN:VEVENT
DTSTART;TZID=Europe/Berlin:20250528T193000
DTEND;TZID=Europe/Berlin:20250528T233000
DTSTAMP:20260423T044213
CREATED:20250103T133949Z
LAST-MODIFIED:20250103T133949Z
UID:23229-1748460600-1748475000@www.feuerwehr-gescher.de
SUMMARY:LZ Hochmoor: Kameradschaftsfest
DESCRIPTION:
URL:https://www.feuerwehr-gescher.de/event/lz-hochmoor-kameradschaftsfest/
CATEGORIES:LZ Hochmoor
END:VEVENT
END:VCALENDAR