BEGIN:VCALENDAR
VERSION:2.0
PRODID:-//Feuerwehr Gescher - ECPv6.15.20//NONSGML v1.0//EN
CALSCALE:GREGORIAN
METHOD:PUBLISH
X-WR-CALNAME:Feuerwehr Gescher
X-ORIGINAL-URL:https://www.feuerwehr-gescher.de
X-WR-CALDESC:Veranstaltungen für Feuerwehr Gescher
REFRESH-INTERVAL;VALUE=DURATION:PT1H
X-Robots-Tag:noindex
X-PUBLISHED-TTL:PT1H
BEGIN:VTIMEZONE
TZID:Europe/Berlin
BEGIN:DAYLIGHT
TZOFFSETFROM:+0100
TZOFFSETTO:+0200
TZNAME:CEST
DTSTART:20240331T010000
END:DAYLIGHT
BEGIN:STANDARD
TZOFFSETFROM:+0200
TZOFFSETTO:+0100
TZNAME:CET
DTSTART:20241027T010000
END:STANDARD
BEGIN:DAYLIGHT
TZOFFSETFROM:+0100
TZOFFSETTO:+0200
TZNAME:CEST
DTSTART:20250330T010000
END:DAYLIGHT
BEGIN:STANDARD
TZOFFSETFROM:+0200
TZOFFSETTO:+0100
TZNAME:CET
DTSTART:20251026T010000
END:STANDARD
BEGIN:DAYLIGHT
TZOFFSETFROM:+0100
TZOFFSETTO:+0200
TZNAME:CEST
DTSTART:20260329T010000
END:DAYLIGHT
BEGIN:STANDARD
TZOFFSETFROM:+0200
TZOFFSETTO:+0100
TZNAME:CET
DTSTART:20261025T010000
END:STANDARD
END:VTIMEZONE
BEGIN:VEVENT
DTSTART;TZID=Europe/Berlin:20250603T193000
DTEND;TZID=Europe/Berlin:20250603T220000
DTSTAMP:20260423T024851
CREATED:20250103T110144Z
LAST-MODIFIED:20250103T110144Z
UID:23178-1748979000-1748988000@www.feuerwehr-gescher.de
SUMMARY:Dienstabend LZ Hochmoor: Eing Textil Wasserentnahmestellen\, Wasserförderung
DESCRIPTION:
URL:https://www.feuerwehr-gescher.de/event/dienstabend-lz-hochmoor-eing-textil-wasserentnahmestellen-wasserfoerderung/
CATEGORIES:LZ Hochmoor
END:VEVENT
BEGIN:VEVENT
DTSTART;TZID=Europe/Berlin:20250605T193000
DTEND;TZID=Europe/Berlin:20250605T220000
DTSTAMP:20260423T024851
CREATED:20250103T095522Z
LAST-MODIFIED:20250103T095522Z
UID:23033-1749151800-1749160800@www.feuerwehr-gescher.de
SUMMARY:Dienstabend LZ Gescher: Gruppenübungen Block 2
DESCRIPTION:Angriffs- u. Sicherheitstrupp/ Strahlrohrführung\nWasserrettung / Ölsperre\nRetten u. Selbstretten/Absturzsicherung\nVegetationsbrandbekämpfung
URL:https://www.feuerwehr-gescher.de/event/dienstabend-lz-gescher-gruppenuebungen-block-2/
CATEGORIES:LZ Gescher
END:VEVENT
BEGIN:VEVENT
DTSTART;TZID=Europe/Berlin:20250610T180000
DTEND;TZID=Europe/Berlin:20250610T200000
DTSTAMP:20260423T024851
CREATED:20250107T092224Z
LAST-MODIFIED:20250107T092224Z
UID:23304-1749578400-1749585600@www.feuerwehr-gescher.de
SUMMARY:Jugendfeuerwehr: Funkübung
DESCRIPTION:
URL:https://www.feuerwehr-gescher.de/event/jugendfeuerwehr-funkuebung/
CATEGORIES:Jugendfeuerwehr
END:VEVENT
BEGIN:VEVENT
DTSTART;TZID=Europe/Berlin:20250610T193000
DTEND;TZID=Europe/Berlin:20250610T220000
DTSTAMP:20260423T024851
CREATED:20250103T102759Z
LAST-MODIFIED:20250103T102759Z
UID:23096-1749583800-1749592800@www.feuerwehr-gescher.de
SUMMARY:Führungskräftefortbildung
DESCRIPTION:
URL:https://www.feuerwehr-gescher.de/event/fuehrungskraeftefortbildung-2/
CATEGORIES:BM-Termine
END:VEVENT
BEGIN:VEVENT
DTSTART;TZID=Europe/Berlin:20250613T170000
DTEND;TZID=Europe/Berlin:20250613T183000
DTSTAMP:20260423T024851
CREATED:20250107T100253Z
LAST-MODIFIED:20250107T100253Z
UID:23348-1749834000-1749839400@www.feuerwehr-gescher.de
SUMMARY:Kinderfeuerwehr: Gruppe 1 und 2 Ausflug
DESCRIPTION:
URL:https://www.feuerwehr-gescher.de/event/kinderfeuerwehr-gruppe-1-und-2-ausflug/
CATEGORIES:Kinderfeuerwehr
END:VEVENT
BEGIN:VEVENT
DTSTART;TZID=Europe/Berlin:20250617T193000
DTEND;TZID=Europe/Berlin:20250617T220000
DTSTAMP:20260423T024851
CREATED:20250103T110306Z
LAST-MODIFIED:20250103T111958Z
UID:23180-1750188600-1750197600@www.feuerwehr-gescher.de
SUMMARY:Dienstabend LZ Hochmoor: Vegetationsbrandbekämpfung am Naturschutzgebiet
DESCRIPTION:
URL:https://www.feuerwehr-gescher.de/event/dienstabend-lz-hochmoor-vegetationsbrandbekaempfung-am-naturschutzgebiet/
CATEGORIES:LZ Hochmoor
END:VEVENT
BEGIN:VEVENT
DTSTART;VALUE=DATE:20250620
DTEND;VALUE=DATE:20250623
DTSTAMP:20260423T024851
CREATED:20250103T103730Z
LAST-MODIFIED:20250103T103730Z
UID:23120-1750377600-1750636799@www.feuerwehr-gescher.de
SUMMARY:Kreisbereitschaft Zeltlager
DESCRIPTION:
URL:https://www.feuerwehr-gescher.de/event/kreisbereitschaft-zeltlager/
CATEGORIES:Kreisbereitschaft
END:VEVENT
BEGIN:VEVENT
DTSTART;TZID=Europe/Berlin:20250624T180000
DTEND;TZID=Europe/Berlin:20250624T200000
DTSTAMP:20260423T024851
CREATED:20250107T092331Z
LAST-MODIFIED:20250107T092331Z
UID:23306-1750788000-1750795200@www.feuerwehr-gescher.de
SUMMARY:Jugendfeuerwehr: Hochseilgarten
DESCRIPTION:
URL:https://www.feuerwehr-gescher.de/event/jugendfeuerwehr-hochseilgarten/
CATEGORIES:Jugendfeuerwehr
END:VEVENT
BEGIN:VEVENT
DTSTART;TZID=Europe/Berlin:20250628T143000
DTEND;TZID=Europe/Berlin:20250628T170000
DTSTAMP:20260423T024851
CREATED:20250103T103804Z
LAST-MODIFIED:20250103T103804Z
UID:23122-1751121000-1751130000@www.feuerwehr-gescher.de
SUMMARY:Kreisbereitschaft Dienst
DESCRIPTION:
URL:https://www.feuerwehr-gescher.de/event/kreisbereitschaft-dienst-6/
CATEGORIES:Kreisbereitschaft
END:VEVENT
END:VCALENDAR