BEGIN:VCALENDAR
VERSION:2.0
PRODID:-//Feuerwehr Gescher - ECPv6.15.20//NONSGML v1.0//EN
CALSCALE:GREGORIAN
METHOD:PUBLISH
X-ORIGINAL-URL:https://www.feuerwehr-gescher.de
X-WR-CALDESC:Veranstaltungen für Feuerwehr Gescher
REFRESH-INTERVAL;VALUE=DURATION:PT1H
X-Robots-Tag:noindex
X-PUBLISHED-TTL:PT1H
BEGIN:VTIMEZONE
TZID:Europe/Berlin
BEGIN:DAYLIGHT
TZOFFSETFROM:+0100
TZOFFSETTO:+0200
TZNAME:CEST
DTSTART:20240331T010000
END:DAYLIGHT
BEGIN:STANDARD
TZOFFSETFROM:+0200
TZOFFSETTO:+0100
TZNAME:CET
DTSTART:20241027T010000
END:STANDARD
BEGIN:DAYLIGHT
TZOFFSETFROM:+0100
TZOFFSETTO:+0200
TZNAME:CEST
DTSTART:20250330T010000
END:DAYLIGHT
BEGIN:STANDARD
TZOFFSETFROM:+0200
TZOFFSETTO:+0100
TZNAME:CET
DTSTART:20251026T010000
END:STANDARD
BEGIN:DAYLIGHT
TZOFFSETFROM:+0100
TZOFFSETTO:+0200
TZNAME:CEST
DTSTART:20260329T010000
END:DAYLIGHT
BEGIN:STANDARD
TZOFFSETFROM:+0200
TZOFFSETTO:+0100
TZNAME:CET
DTSTART:20261025T010000
END:STANDARD
END:VTIMEZONE
BEGIN:VEVENT
DTSTART;TZID=Europe/Berlin:20250814T193000
DTEND;TZID=Europe/Berlin:20250814T220000
DTSTAMP:20260422T234042
CREATED:20250103T095916Z
LAST-MODIFIED:20250103T101613Z
UID:23041-1755199800-1755208800@www.feuerwehr-gescher.de
SUMMARY:Dienstabend LZ Gescher/LZ Hochmoor: Übung beider Löschzüge
DESCRIPTION:
URL:https://www.feuerwehr-gescher.de/event/dienstabend-lz-gescher-lz-hochmoor-uebung-beider-loeschzuege/
CATEGORIES:LZ Gescher,LZ Hochmoor
END:VEVENT
BEGIN:VEVENT
DTSTART;TZID=Europe/Berlin:20250821T193000
DTEND;TZID=Europe/Berlin:20250821T220000
DTSTAMP:20260422T234042
CREATED:20250103T102839Z
LAST-MODIFIED:20250103T102839Z
UID:23098-1755804600-1755813600@www.feuerwehr-gescher.de
SUMMARY:Führungskräftefortbildung
DESCRIPTION:
URL:https://www.feuerwehr-gescher.de/event/fuehrungskraeftefortbildung-3/
CATEGORIES:BM-Termine
END:VEVENT
BEGIN:VEVENT
DTSTART;TZID=Europe/Berlin:20250823T143000
DTEND;TZID=Europe/Berlin:20250823T170000
DTSTAMP:20260422T234042
CREATED:20250103T103904Z
LAST-MODIFIED:20250103T103904Z
UID:23126-1755959400-1755968400@www.feuerwehr-gescher.de
SUMMARY:Kreisbereitschaft Dienst
DESCRIPTION:
URL:https://www.feuerwehr-gescher.de/event/kreisbereitschaft-dienst-8/
CATEGORIES:Kreisbereitschaft
END:VEVENT
BEGIN:VEVENT
DTSTART;TZID=Europe/Berlin:20250826T193000
DTEND;TZID=Europe/Berlin:20250826T220000
DTSTAMP:20260422T234042
CREATED:20250103T132335Z
LAST-MODIFIED:20250103T132335Z
UID:23195-1756236600-1756245600@www.feuerwehr-gescher.de
SUMMARY:Dienstabend LZ Hochmoor: Üben Leistungsnachweis Löschangriff / Erste Hilfe / Knoten
DESCRIPTION:
URL:https://www.feuerwehr-gescher.de/event/dienstabend-lz-hochmoor-ueben-leistungsnachweis-loeschangriff-erste-hilfe-knoten-2/
CATEGORIES:LZ Hochmoor
END:VEVENT
BEGIN:VEVENT
DTSTART;TZID=Europe/Berlin:20250828T193000
DTEND;TZID=Europe/Berlin:20250828T220000
DTSTAMP:20260422T234042
CREATED:20250103T100018Z
LAST-MODIFIED:20250103T100018Z
UID:23043-1756409400-1756418400@www.feuerwehr-gescher.de
SUMMARY:Dienstabend LZ Gescher: Üben FwDV03
DESCRIPTION:
URL:https://www.feuerwehr-gescher.de/event/dienstabend-lz-gescher-ueben-fwdv03/
CATEGORIES:LZ Gescher
END:VEVENT
BEGIN:VEVENT
DTSTART;TZID=Europe/Berlin:20250829T170000
DTEND;TZID=Europe/Berlin:20250829T183000
DTSTAMP:20260422T234042
CREATED:20250107T100345Z
LAST-MODIFIED:20250107T100345Z
UID:23350-1756486800-1756492200@www.feuerwehr-gescher.de
SUMMARY:Kinderfeuerwehr: Gruppe 1 und 2 Kinderflamme
DESCRIPTION:
URL:https://www.feuerwehr-gescher.de/event/kinderfeuerwehr-gruppe-1-und-2-kinderflamme/
CATEGORIES:Kinderfeuerwehr
END:VEVENT
END:VCALENDAR