BEGIN:VCALENDAR
VERSION:2.0
PRODID:-//Feuerwehr Gescher - ECPv6.15.20//NONSGML v1.0//EN
CALSCALE:GREGORIAN
METHOD:PUBLISH
X-ORIGINAL-URL:https://www.feuerwehr-gescher.de
X-WR-CALDESC:Veranstaltungen für Feuerwehr Gescher
REFRESH-INTERVAL;VALUE=DURATION:PT1H
X-Robots-Tag:noindex
X-PUBLISHED-TTL:PT1H
BEGIN:VTIMEZONE
TZID:Europe/Berlin
BEGIN:DAYLIGHT
TZOFFSETFROM:+0100
TZOFFSETTO:+0200
TZNAME:CEST
DTSTART:20240331T010000
END:DAYLIGHT
BEGIN:STANDARD
TZOFFSETFROM:+0200
TZOFFSETTO:+0100
TZNAME:CET
DTSTART:20241027T010000
END:STANDARD
BEGIN:DAYLIGHT
TZOFFSETFROM:+0100
TZOFFSETTO:+0200
TZNAME:CEST
DTSTART:20250330T010000
END:DAYLIGHT
BEGIN:STANDARD
TZOFFSETFROM:+0200
TZOFFSETTO:+0100
TZNAME:CET
DTSTART:20251026T010000
END:STANDARD
BEGIN:DAYLIGHT
TZOFFSETFROM:+0100
TZOFFSETTO:+0200
TZNAME:CEST
DTSTART:20260329T010000
END:DAYLIGHT
BEGIN:STANDARD
TZOFFSETFROM:+0200
TZOFFSETTO:+0100
TZNAME:CET
DTSTART:20261025T010000
END:STANDARD
END:VTIMEZONE
BEGIN:VEVENT
DTSTART;TZID=Europe/Berlin:20250902T180000
DTEND;TZID=Europe/Berlin:20250902T200000
DTSTAMP:20260422T220603
CREATED:20250107T092809Z
LAST-MODIFIED:20250107T092809Z
UID:23310-1756836000-1756843200@www.feuerwehr-gescher.de
SUMMARY:Jugendfeuerwehr: Jugendsprecher planen Übung
DESCRIPTION:
URL:https://www.feuerwehr-gescher.de/event/jugendfeuerwehr-jugendsprecher-planen-uebung/
CATEGORIES:Jugendfeuerwehr
END:VEVENT
BEGIN:VEVENT
DTSTART;TZID=Europe/Berlin:20250904T193000
DTEND;TZID=Europe/Berlin:20250904T220000
DTSTAMP:20260422T220603
CREATED:20250103T100108Z
LAST-MODIFIED:20250103T100108Z
UID:23045-1757014200-1757023200@www.feuerwehr-gescher.de
SUMMARY:Dienstabend LZ Gescher: Üben FwDV03 (Zusatzdienst)
DESCRIPTION:
URL:https://www.feuerwehr-gescher.de/event/dienstabend-lz-gescher-ueben-fwdv03-zusatzdienst/
CATEGORIES:LZ Gescher
END:VEVENT
BEGIN:VEVENT
DTSTART;TZID=Europe/Berlin:20250904T193000
DTEND;TZID=Europe/Berlin:20250904T220000
DTSTAMP:20260422T220603
CREATED:20250103T103252Z
LAST-MODIFIED:20250103T103252Z
UID:23108-1757014200-1757023200@www.feuerwehr-gescher.de
SUMMARY:IUK-Gruppe Dienst
DESCRIPTION:
URL:https://www.feuerwehr-gescher.de/event/iuk-gruppe-dienst-5/
CATEGORIES:IUK
END:VEVENT
BEGIN:VEVENT
DTSTART;TZID=Europe/Berlin:20250905T170000
DTEND;TZID=Europe/Berlin:20250905T183000
DTSTAMP:20260422T220603
CREATED:20250107T100448Z
LAST-MODIFIED:20250107T100448Z
UID:23352-1757091600-1757097000@www.feuerwehr-gescher.de
SUMMARY:Kinderfeuerwehr: Gruppe 1 und 2 Abnahme Kinderflamme in Bronze & Silber
DESCRIPTION:
URL:https://www.feuerwehr-gescher.de/event/kinderfeuerwehr-gruppe-1-und-2-abnahme-kinderflamme-in-bronze-silber/
CATEGORIES:Kinderfeuerwehr
END:VEVENT
BEGIN:VEVENT
DTSTART;VALUE=DATE:20250907
DTEND;VALUE=DATE:20250908
DTSTAMP:20260422T220603
CREATED:20250103T100146Z
LAST-MODIFIED:20250103T100146Z
UID:23047-1757203200-1757289599@www.feuerwehr-gescher.de
SUMMARY:Leistungsnachweis Kreis Borken in Legden Asbeck
DESCRIPTION:
URL:https://www.feuerwehr-gescher.de/event/leistungsnachweis-kreis-borken-in-legden-asbeck/
CATEGORIES:LZ Gescher,LZ Hochmoor
END:VEVENT
BEGIN:VEVENT
DTSTART;TZID=Europe/Berlin:20250909T193000
DTEND;TZID=Europe/Berlin:20250909T220000
DTSTAMP:20260422T220603
CREATED:20250103T132427Z
LAST-MODIFIED:20250103T132427Z
UID:23197-1757446200-1757455200@www.feuerwehr-gescher.de
SUMMARY:Dienstabend LZ Hochmoor: Übung am Objekt
DESCRIPTION:
URL:https://www.feuerwehr-gescher.de/event/dienstabend-lz-hochmoor-uebung-am-objekt/
CATEGORIES:LZ Hochmoor
END:VEVENT
BEGIN:VEVENT
DTSTART;TZID=Europe/Berlin:20250911T193000
DTEND;TZID=Europe/Berlin:20250911T220000
DTSTAMP:20260422T220603
CREATED:20250103T100238Z
LAST-MODIFIED:20250103T100238Z
UID:23049-1757619000-1757628000@www.feuerwehr-gescher.de
SUMMARY:Dienstabend LZ Gescher: Dienstbesprechung mit jeweiligen Gruppenführer
DESCRIPTION:
URL:https://www.feuerwehr-gescher.de/event/dienstabend-lz-gescher-dienstbesprechung-mit-jeweiligen-gruppenfuehrer/
CATEGORIES:LZ Gescher
END:VEVENT
BEGIN:VEVENT
DTSTART;VALUE=DATE:20250913
DTEND;VALUE=DATE:20250914
DTSTAMP:20260422T220603
CREATED:20250103T104436Z
LAST-MODIFIED:20250103T104436Z
UID:23146-1757721600-1757807999@www.feuerwehr-gescher.de
SUMMARY:Erste Hilfekurs für Partner/-innen der Feuerwehrmitglieder
DESCRIPTION:
URL:https://www.feuerwehr-gescher.de/event/erste-hilfekurs-fuer-partner-innen-der-feuerwehrmitglieder/
CATEGORIES:Feste
END:VEVENT
BEGIN:VEVENT
DTSTART;TZID=Europe/Berlin:20250916T180000
DTEND;TZID=Europe/Berlin:20250916T200000
DTSTAMP:20260422T220603
CREATED:20250107T092902Z
LAST-MODIFIED:20250107T092902Z
UID:23312-1758045600-1758052800@www.feuerwehr-gescher.de
SUMMARY:Jugendfeuerwehr: Brandeinsatz inkl. Theorie
DESCRIPTION:
URL:https://www.feuerwehr-gescher.de/event/jugendfeuerwehr-brandeinsatz-inkl-theorie/
CATEGORIES:Jugendfeuerwehr
END:VEVENT
BEGIN:VEVENT
DTSTART;TZID=Europe/Berlin:20250919T170000
DTEND;TZID=Europe/Berlin:20250919T183000
DTSTAMP:20260422T220603
CREATED:20250107T100537Z
LAST-MODIFIED:20250107T100537Z
UID:23354-1758301200-1758306600@www.feuerwehr-gescher.de
SUMMARY:Kinderfeuerwehr: Gruppe 1 Löschangriff
DESCRIPTION:
URL:https://www.feuerwehr-gescher.de/event/kinderfeuerwehr-gruppe-1-loeschangriff/
CATEGORIES:Kinderfeuerwehr
END:VEVENT
BEGIN:VEVENT
DTSTART;VALUE=DATE:20250920
DTEND;VALUE=DATE:20250921
DTSTAMP:20260422T220603
CREATED:20250515T120225Z
LAST-MODIFIED:20250515T120225Z
UID:23600-1758326400-1758412799@www.feuerwehr-gescher.de
SUMMARY:LZ Gescher: Löschzug Nacht Zugfahrt
DESCRIPTION:
URL:https://www.feuerwehr-gescher.de/event/lz-gescher-loeschzug-nacht-zugfahrt/
CATEGORIES:Feste,LZ Gescher
END:VEVENT
BEGIN:VEVENT
DTSTART;TZID=Europe/Berlin:20250920T143000
DTEND;TZID=Europe/Berlin:20250920T170000
DTSTAMP:20260422T220603
CREATED:20250103T103933Z
LAST-MODIFIED:20250103T103933Z
UID:23128-1758378600-1758387600@www.feuerwehr-gescher.de
SUMMARY:Kreisbereitschaft Dienst
DESCRIPTION:
URL:https://www.feuerwehr-gescher.de/event/kreisbereitschaft-dienst-9/
CATEGORIES:Kreisbereitschaft
END:VEVENT
BEGIN:VEVENT
DTSTART;TZID=Europe/Berlin:20250923T193000
DTEND;TZID=Europe/Berlin:20250923T220000
DTSTAMP:20260422T220603
CREATED:20250103T132537Z
LAST-MODIFIED:20250103T132537Z
UID:23199-1758655800-1758664800@www.feuerwehr-gescher.de
SUMMARY:Dienstabend LZ Hochmoor: Übung Campingplatz Stevede
DESCRIPTION:
URL:https://www.feuerwehr-gescher.de/event/dienstabend-lz-hochmoor-uebung-campingplatz-stevede/
CATEGORIES:LZ Hochmoor
END:VEVENT
BEGIN:VEVENT
DTSTART;TZID=Europe/Berlin:20250925T193000
DTEND;TZID=Europe/Berlin:20250925T220000
DTSTAMP:20260422T220603
CREATED:20250103T100333Z
LAST-MODIFIED:20250103T100453Z
UID:23051-1758828600-1758837600@www.feuerwehr-gescher.de
SUMMARY:Dienstabend LZ Gescher: Stationsausbildung Technische Hilfeleistung
DESCRIPTION:
URL:https://www.feuerwehr-gescher.de/event/dienstabend-lz-gescher-stationsausbilung-technische-hilfeleistung/
CATEGORIES:LZ Gescher
END:VEVENT
BEGIN:VEVENT
DTSTART;TZID=Europe/Berlin:20250926T170000
DTEND;TZID=Europe/Berlin:20250926T183000
DTSTAMP:20260422T220603
CREATED:20250107T100610Z
LAST-MODIFIED:20250107T100610Z
UID:23356-1758906000-1758911400@www.feuerwehr-gescher.de
SUMMARY:Kinderfeuerwehr: Gruppe 2 Löschangriff
DESCRIPTION:
URL:https://www.feuerwehr-gescher.de/event/kinderfeuerwehr-gruppe-2-loeschangriff/
CATEGORIES:Kinderfeuerwehr
END:VEVENT
BEGIN:VEVENT
DTSTART;TZID=Europe/Berlin:20250930T180000
DTEND;TZID=Europe/Berlin:20250930T200000
DTSTAMP:20260422T220603
CREATED:20250107T092946Z
LAST-MODIFIED:20250107T092946Z
UID:23314-1759255200-1759262400@www.feuerwehr-gescher.de
SUMMARY:Jugendfeuerwehr: Showübung mit Eltern
DESCRIPTION:
URL:https://www.feuerwehr-gescher.de/event/jugendfeuerwehr-showuebung-mit-eltern/
CATEGORIES:Jugendfeuerwehr
END:VEVENT
END:VCALENDAR