BEGIN:VCALENDAR
VERSION:2.0
PRODID:-//Feuerwehr Gescher - ECPv6.15.20//NONSGML v1.0//EN
CALSCALE:GREGORIAN
METHOD:PUBLISH
X-ORIGINAL-URL:https://www.feuerwehr-gescher.de
X-WR-CALDESC:Veranstaltungen für Feuerwehr Gescher
REFRESH-INTERVAL;VALUE=DURATION:PT1H
X-Robots-Tag:noindex
X-PUBLISHED-TTL:PT1H
BEGIN:VTIMEZONE
TZID:Europe/Berlin
BEGIN:DAYLIGHT
TZOFFSETFROM:+0100
TZOFFSETTO:+0200
TZNAME:CEST
DTSTART:20250330T010000
END:DAYLIGHT
BEGIN:STANDARD
TZOFFSETFROM:+0200
TZOFFSETTO:+0100
TZNAME:CET
DTSTART:20251026T010000
END:STANDARD
BEGIN:DAYLIGHT
TZOFFSETFROM:+0100
TZOFFSETTO:+0200
TZNAME:CEST
DTSTART:20260329T010000
END:DAYLIGHT
BEGIN:STANDARD
TZOFFSETFROM:+0200
TZOFFSETTO:+0100
TZNAME:CET
DTSTART:20261025T010000
END:STANDARD
BEGIN:DAYLIGHT
TZOFFSETFROM:+0100
TZOFFSETTO:+0200
TZNAME:CEST
DTSTART:20270328T010000
END:DAYLIGHT
BEGIN:STANDARD
TZOFFSETFROM:+0200
TZOFFSETTO:+0100
TZNAME:CET
DTSTART:20271031T010000
END:STANDARD
END:VTIMEZONE
BEGIN:VEVENT
DTSTART;TZID=Europe/Berlin:20260602T193000
DTEND;TZID=Europe/Berlin:20260602T220000
DTSTAMP:20260422T123131
CREATED:20260105T144718Z
LAST-MODIFIED:20260105T144718Z
UID:24058-1780428600-1780437600@www.feuerwehr-gescher.de
SUMMARY:Dienstabend LZ Hochmoor/Gescher: gemeinsame Übung
DESCRIPTION:
URL:https://www.feuerwehr-gescher.de/event/dienstabend-lz-hochmoor-gescher-gemeinsame-uebung/
CATEGORIES:LZ Gescher,LZ Hochmoor
END:VEVENT
BEGIN:VEVENT
DTSTART;VALUE=DATE:20260604
DTEND;VALUE=DATE:20260605
DTSTAMP:20260422T123131
CREATED:20260106T071235Z
LAST-MODIFIED:20260106T071235Z
UID:24184-1780531200-1780617599@www.feuerwehr-gescher.de
SUMMARY:Fahrt zur Interschutz
DESCRIPTION:
URL:https://www.feuerwehr-gescher.de/event/fahrt-zur-interschutz/
CATEGORIES:Feste
END:VEVENT
BEGIN:VEVENT
DTSTART;TZID=Europe/Berlin:20260609T180000
DTEND;TZID=Europe/Berlin:20260609T200000
DTSTAMP:20260422T123131
CREATED:20260106T092006Z
LAST-MODIFIED:20260106T092006Z
UID:24284-1781028000-1781035200@www.feuerwehr-gescher.de
SUMMARY:Jugendfeuerwehr Gesamt: Üben für Leistungsnachweis
DESCRIPTION:
URL:https://www.feuerwehr-gescher.de/event/jugendfeuerwehr-gesamt-ueben-fuer-leistungsnachweis-2/
CATEGORIES:Jugendfeuerwehr
END:VEVENT
BEGIN:VEVENT
DTSTART;TZID=Europe/Berlin:20260611T193000
DTEND;TZID=Europe/Berlin:20260611T220000
DTSTAMP:20260422T123131
CREATED:20260105T151845Z
LAST-MODIFIED:20260105T151845Z
UID:24135-1781206200-1781215200@www.feuerwehr-gescher.de
SUMMARY:IUK Dienst
DESCRIPTION:
URL:https://www.feuerwehr-gescher.de/event/iuk-dienst-4/
CATEGORIES:IUK
END:VEVENT
BEGIN:VEVENT
DTSTART;VALUE=DATE:20260612
DTEND;VALUE=DATE:20260615
DTSTAMP:20260422T123131
CREATED:20260105T152706Z
LAST-MODIFIED:20260105T152706Z
UID:24153-1781222400-1781481599@www.feuerwehr-gescher.de
SUMMARY:Kreisbereitschaft: Zeltlager
DESCRIPTION:
URL:https://www.feuerwehr-gescher.de/event/kreisbereitschaft-zeltlager-2/
CATEGORIES:Kreisbereitschaft
END:VEVENT
BEGIN:VEVENT
DTSTART;TZID=Europe/Berlin:20260616T193000
DTEND;TZID=Europe/Berlin:20260616T220000
DTSTAMP:20260422T123131
CREATED:20260109T091605Z
LAST-MODIFIED:20260109T091605Z
UID:24339-1781638200-1781647200@www.feuerwehr-gescher.de
SUMMARY:LZ Hochmoor: Vegetationsbrandbekämpfung
DESCRIPTION:
URL:https://www.feuerwehr-gescher.de/event/lz-hochmoor-vegetationsbrandbekaempfung/
CATEGORIES:LZ Hochmoor
END:VEVENT
BEGIN:VEVENT
DTSTART;TZID=Europe/Berlin:20260618T193000
DTEND;TZID=Europe/Berlin:20260618T220000
DTSTAMP:20260422T123131
CREATED:20260105T144547Z
LAST-MODIFIED:20260105T144547Z
UID:24054-1781811000-1781820000@www.feuerwehr-gescher.de
SUMMARY:Dienstabend LZ Gescher: Gruppenübungen Block 2
DESCRIPTION:Einsatzleitwagen\nTragbare Leitern\nAbsturzsicherung\nFahrzeug- u. Gerätekunde Kleingeräte
URL:https://www.feuerwehr-gescher.de/event/dienstabend-lz-gescher-gruppenuebungen-block-2-7/
CATEGORIES:LZ Gescher
END:VEVENT
BEGIN:VEVENT
DTSTART;TZID=Europe/Berlin:20260619T170000
DTEND;TZID=Europe/Berlin:20260619T183000
DTSTAMP:20260422T123131
CREATED:20260106T074414Z
LAST-MODIFIED:20260106T074414Z
UID:24220-1781888400-1781893800@www.feuerwehr-gescher.de
SUMMARY:Kinderfeuerwehr Gruppe 1: Stadtrally
DESCRIPTION:
URL:https://www.feuerwehr-gescher.de/event/kinderfeuerwehr-gruppe-1-stadtrally/
CATEGORIES:Kinderfeuerwehr
END:VEVENT
BEGIN:VEVENT
DTSTART;VALUE=DATE:20260620
DTEND;VALUE=DATE:20260621
DTSTAMP:20260422T123131
CREATED:20260106T071300Z
LAST-MODIFIED:20260106T071300Z
UID:24186-1781913600-1781999999@www.feuerwehr-gescher.de
SUMMARY:Spalier Hochzeit Jana + Luca Mance
DESCRIPTION:
URL:https://www.feuerwehr-gescher.de/event/spalier-hochzeit-jana-luca-mance/
CATEGORIES:Feste
END:VEVENT
BEGIN:VEVENT
DTSTART;TZID=Europe/Berlin:20260623T180000
DTEND;TZID=Europe/Berlin:20260623T200000
DTSTAMP:20260422T123131
CREATED:20260106T092028Z
LAST-MODIFIED:20260106T092028Z
UID:24286-1782237600-1782244800@www.feuerwehr-gescher.de
SUMMARY:Jugendfeuerwehr Gesamt: Üben für Leistungsnachweis
DESCRIPTION:
URL:https://www.feuerwehr-gescher.de/event/jugendfeuerwehr-gesamt-ueben-fuer-leistungsnachweis-3/
CATEGORIES:Jugendfeuerwehr
END:VEVENT
BEGIN:VEVENT
DTSTART;TZID=Europe/Berlin:20260626T170000
DTEND;TZID=Europe/Berlin:20260626T183000
DTSTAMP:20260422T123131
CREATED:20260106T074446Z
LAST-MODIFIED:20260106T074446Z
UID:24222-1782493200-1782498600@www.feuerwehr-gescher.de
SUMMARY:Kinderfeuerwehr Gruppe 2: Stadtrally
DESCRIPTION:
URL:https://www.feuerwehr-gescher.de/event/kinderfeuerwehr-gruppe-2-stadtrally/
CATEGORIES:Kinderfeuerwehr
END:VEVENT
BEGIN:VEVENT
DTSTART;TZID=Europe/Berlin:20260627T143000
DTEND;TZID=Europe/Berlin:20260627T170000
DTSTAMP:20260422T123131
CREATED:20260105T152816Z
LAST-MODIFIED:20260105T152816Z
UID:24157-1782570600-1782579600@www.feuerwehr-gescher.de
SUMMARY:Kreisbereitschaft: Dienst
DESCRIPTION:
URL:https://www.feuerwehr-gescher.de/event/kreisbereitschaft-dienst-18/
CATEGORIES:Kreisbereitschaft
END:VEVENT
BEGIN:VEVENT
DTSTART;TZID=Europe/Berlin:20260630T193000
DTEND;TZID=Europe/Berlin:20260630T220000
DTSTAMP:20260422T123131
CREATED:20260109T091654Z
LAST-MODIFIED:20260109T091654Z
UID:24341-1782847800-1782856800@www.feuerwehr-gescher.de
SUMMARY:LZ Hochmoor: Feuer Bauernhof Tungerloh Pröbsting
DESCRIPTION:
URL:https://www.feuerwehr-gescher.de/event/lz-hochmoor-feuer-bauernhof-tungerloh-proebsting/
CATEGORIES:LZ Hochmoor
END:VEVENT
END:VCALENDAR