BEGIN:VCALENDAR
VERSION:2.0
PRODID:-//Feuerwehr Gescher - ECPv6.15.20//NONSGML v1.0//EN
CALSCALE:GREGORIAN
METHOD:PUBLISH
X-ORIGINAL-URL:https://www.feuerwehr-gescher.de
X-WR-CALDESC:Veranstaltungen für Feuerwehr Gescher
REFRESH-INTERVAL;VALUE=DURATION:PT1H
X-Robots-Tag:noindex
X-PUBLISHED-TTL:PT1H
BEGIN:VTIMEZONE
TZID:Europe/Berlin
BEGIN:DAYLIGHT
TZOFFSETFROM:+0100
TZOFFSETTO:+0200
TZNAME:CEST
DTSTART:20250330T010000
END:DAYLIGHT
BEGIN:STANDARD
TZOFFSETFROM:+0200
TZOFFSETTO:+0100
TZNAME:CET
DTSTART:20251026T010000
END:STANDARD
BEGIN:DAYLIGHT
TZOFFSETFROM:+0100
TZOFFSETTO:+0200
TZNAME:CEST
DTSTART:20260329T010000
END:DAYLIGHT
BEGIN:STANDARD
TZOFFSETFROM:+0200
TZOFFSETTO:+0100
TZNAME:CET
DTSTART:20261025T010000
END:STANDARD
BEGIN:DAYLIGHT
TZOFFSETFROM:+0100
TZOFFSETTO:+0200
TZNAME:CEST
DTSTART:20270328T010000
END:DAYLIGHT
BEGIN:STANDARD
TZOFFSETFROM:+0200
TZOFFSETTO:+0100
TZNAME:CET
DTSTART:20271031T010000
END:STANDARD
END:VTIMEZONE
BEGIN:VEVENT
DTSTART;TZID=Europe/Berlin:20260904T170000
DTEND;TZID=Europe/Berlin:20260904T183000
DTSTAMP:20260422T175112
CREATED:20260106T074644Z
LAST-MODIFIED:20260106T074644Z
UID:24226-1788541200-1788546600@www.feuerwehr-gescher.de
SUMMARY:Kinderfeuerwehr Gruppe 1: Üben Kinderflamme/Stationsausbildung
DESCRIPTION:
URL:https://www.feuerwehr-gescher.de/event/kinderfeuerwehr-gruppe-1-ueben-kinderflamme-stationsausbildung/
CATEGORIES:Kinderfeuerwehr
END:VEVENT
BEGIN:VEVENT
DTSTART;TZID=Europe/Berlin:20260908T193000
DTEND;TZID=Europe/Berlin:20260908T220000
DTSTAMP:20260422T175112
CREATED:20260109T092436Z
LAST-MODIFIED:20260109T092436Z
UID:24353-1788895800-1788904800@www.feuerwehr-gescher.de
SUMMARY:LZ Hochmoor: Üben Leistungsnachweis Löschangriff / Erste Hilfe / Knoten
DESCRIPTION:
URL:https://www.feuerwehr-gescher.de/event/lz-hochmoor-ueben-leistungsnachweis-loeschangriff-erste-hilfe-knoten-2/
CATEGORIES:LZ Hochmoor
END:VEVENT
BEGIN:VEVENT
DTSTART;TZID=Europe/Berlin:20260910T193000
DTEND;TZID=Europe/Berlin:20260910T220000
DTSTAMP:20260422T175112
CREATED:20260105T145055Z
LAST-MODIFIED:20260105T145055Z
UID:24066-1789068600-1789077600@www.feuerwehr-gescher.de
SUMMARY:Dienstabend LZ Gescher: Üben FwDV03
DESCRIPTION:
URL:https://www.feuerwehr-gescher.de/event/dienstabend-lz-gescher-ueben-fwdv03-3/
CATEGORIES:LZ Gescher
END:VEVENT
BEGIN:VEVENT
DTSTART;TZID=Europe/Berlin:20260911T170000
DTEND;TZID=Europe/Berlin:20260911T183000
DTSTAMP:20260422T175112
CREATED:20260106T074720Z
LAST-MODIFIED:20260106T074720Z
UID:24228-1789146000-1789151400@www.feuerwehr-gescher.de
SUMMARY:Kinderfeuerwehr Gruppe 2: Üben Kinderflamme/Stationsausbildung
DESCRIPTION:
URL:https://www.feuerwehr-gescher.de/event/kinderfeuerwehr-gruppe-2-ueben-kinderflamme-stationsausbildung/
CATEGORIES:Kinderfeuerwehr
END:VEVENT
BEGIN:VEVENT
DTSTART;VALUE=DATE:20260913
DTEND;VALUE=DATE:20260914
DTSTAMP:20260422T175112
CREATED:20260105T145359Z
LAST-MODIFIED:20260105T145359Z
UID:24070-1789257600-1789343999@www.feuerwehr-gescher.de
SUMMARY:Leistungsnachweis Kreis Borken in Vreden-Ammeloe
DESCRIPTION:
URL:https://www.feuerwehr-gescher.de/event/leistungsnachweis-kreis-borken-in-vreden-ammeloe/
CATEGORIES:LZ Gescher,LZ Hochmoor
END:VEVENT
BEGIN:VEVENT
DTSTART;TZID=Europe/Berlin:20260915T180000
DTEND;TZID=Europe/Berlin:20260915T200000
DTSTAMP:20260422T175112
CREATED:20260106T092324Z
LAST-MODIFIED:20260106T092324Z
UID:24294-1789495200-1789502400@www.feuerwehr-gescher.de
SUMMARY:Jugendfeuerwehr Gruppe A: Jugendsprecher planen Übung
DESCRIPTION:
URL:https://www.feuerwehr-gescher.de/event/jugendfeuerwehr-gruppe-a-jugendsprecher-planen-uebung/
CATEGORIES:Jugendfeuerwehr
END:VEVENT
BEGIN:VEVENT
DTSTART;TZID=Europe/Berlin:20260916T180000
DTEND;TZID=Europe/Berlin:20260916T200000
DTSTAMP:20260422T175112
CREATED:20260106T092404Z
LAST-MODIFIED:20260106T092404Z
UID:24296-1789581600-1789588800@www.feuerwehr-gescher.de
SUMMARY:Jugendfeuerwehr Gruppe B: Jugendsprecher planen Übung
DESCRIPTION:
URL:https://www.feuerwehr-gescher.de/event/jugendfeuerwehr-gruppe-b-jugendsprecher-planen-uebung/
CATEGORIES:Jugendfeuerwehr
END:VEVENT
BEGIN:VEVENT
DTSTART;VALUE=DATE:20260919
DTEND;VALUE=DATE:20260920
DTSTAMP:20260422T175112
CREATED:20260106T071503Z
LAST-MODIFIED:20260106T071503Z
UID:24194-1789776000-1789862399@www.feuerwehr-gescher.de
SUMMARY:Zugfahrt Zug 2
DESCRIPTION:
URL:https://www.feuerwehr-gescher.de/event/zugfahrt-zug-2/
CATEGORIES:Feste
END:VEVENT
BEGIN:VEVENT
DTSTART;TZID=Europe/Berlin:20260922T193000
DTEND;TZID=Europe/Berlin:20260922T220000
DTSTAMP:20260422T175112
CREATED:20260109T092527Z
LAST-MODIFIED:20260109T092527Z
UID:24355-1790105400-1790114400@www.feuerwehr-gescher.de
SUMMARY:LZ Hochmoor: Vorstellung Neues System Absturzsicherung
DESCRIPTION:
URL:https://www.feuerwehr-gescher.de/event/lz-hochmoor-vorstellung-neues-system-absturzsicherung/
CATEGORIES:LZ Hochmoor
END:VEVENT
BEGIN:VEVENT
DTSTART;TZID=Europe/Berlin:20260924T193000
DTEND;TZID=Europe/Berlin:20260924T220000
DTSTAMP:20260422T175112
CREATED:20260105T145504Z
LAST-MODIFIED:20260105T145504Z
UID:24072-1790278200-1790287200@www.feuerwehr-gescher.de
SUMMARY:Dienstabend LZ Gescher: Dienstbesprechung mit dem jeweiligen Gruppenführer
DESCRIPTION:
URL:https://www.feuerwehr-gescher.de/event/dienstabend-lz-gescher-dienstbesprechung-mit-dem-jeweiligen-gruppenfuehrer/
CATEGORIES:LZ Gescher
END:VEVENT
BEGIN:VEVENT
DTSTART;VALUE=DATE:20260926
DTEND;VALUE=DATE:20260928
DTSTAMP:20260422T175112
CREATED:20260106T092443Z
LAST-MODIFIED:20260106T092443Z
UID:24298-1790380800-1790553599@www.feuerwehr-gescher.de
SUMMARY:Jugendfeuerwehr Gesamt: BF-Tag
DESCRIPTION:
URL:https://www.feuerwehr-gescher.de/event/jugendfeuerwehr-gesamt-bf-tag/
CATEGORIES:Jugendfeuerwehr
END:VEVENT
BEGIN:VEVENT
DTSTART;TZID=Europe/Berlin:20260926T143000
DTEND;TZID=Europe/Berlin:20260926T170000
DTSTAMP:20260422T175112
CREATED:20260105T152931Z
LAST-MODIFIED:20260105T152931Z
UID:24163-1790433000-1790442000@www.feuerwehr-gescher.de
SUMMARY:Kreisbereitschaft: Dienst
DESCRIPTION:
URL:https://www.feuerwehr-gescher.de/event/kreisbereitschaft-dienst-21/
CATEGORIES:Kreisbereitschaft
END:VEVENT
END:VCALENDAR