BEGIN:VCALENDAR
VERSION:2.0
PRODID:-//Feuerwehr Gescher - ECPv6.15.20//NONSGML v1.0//EN
CALSCALE:GREGORIAN
METHOD:PUBLISH
X-WR-CALNAME:Feuerwehr Gescher
X-ORIGINAL-URL:https://www.feuerwehr-gescher.de
X-WR-CALDESC:Veranstaltungen für Feuerwehr Gescher
REFRESH-INTERVAL;VALUE=DURATION:PT1H
X-Robots-Tag:noindex
X-PUBLISHED-TTL:PT1H
BEGIN:VTIMEZONE
TZID:Europe/Berlin
BEGIN:DAYLIGHT
TZOFFSETFROM:+0100
TZOFFSETTO:+0200
TZNAME:CEST
DTSTART:20250330T010000
END:DAYLIGHT
BEGIN:STANDARD
TZOFFSETFROM:+0200
TZOFFSETTO:+0100
TZNAME:CET
DTSTART:20251026T010000
END:STANDARD
BEGIN:DAYLIGHT
TZOFFSETFROM:+0100
TZOFFSETTO:+0200
TZNAME:CEST
DTSTART:20260329T010000
END:DAYLIGHT
BEGIN:STANDARD
TZOFFSETFROM:+0200
TZOFFSETTO:+0100
TZNAME:CET
DTSTART:20261025T010000
END:STANDARD
BEGIN:DAYLIGHT
TZOFFSETFROM:+0100
TZOFFSETTO:+0200
TZNAME:CEST
DTSTART:20270328T010000
END:DAYLIGHT
BEGIN:STANDARD
TZOFFSETFROM:+0200
TZOFFSETTO:+0100
TZNAME:CET
DTSTART:20271031T010000
END:STANDARD
END:VTIMEZONE
BEGIN:VEVENT
DTSTART;TZID=Europe/Berlin:20261001T193000
DTEND;TZID=Europe/Berlin:20261001T220000
DTSTAMP:20260422T192905
CREATED:20260105T151957Z
LAST-MODIFIED:20260105T151957Z
UID:24139-1790883000-1790892000@www.feuerwehr-gescher.de
SUMMARY:IUK Dienst
DESCRIPTION:
URL:https://www.feuerwehr-gescher.de/event/iuk-dienst-6/
CATEGORIES:IUK
END:VEVENT
BEGIN:VEVENT
DTSTART;TZID=Europe/Berlin:20261002T170000
DTEND;TZID=Europe/Berlin:20261002T183000
DTSTAMP:20260422T192905
CREATED:20260106T074811Z
LAST-MODIFIED:20260106T074811Z
UID:24230-1790960400-1790965800@www.feuerwehr-gescher.de
SUMMARY:Kinderfeuerwehr beide Gruppen: Üben Kinderflamme
DESCRIPTION:
URL:https://www.feuerwehr-gescher.de/event/kinderfeuerwehr-beide-gruppen-ueben-kinderflamme/
CATEGORIES:Kinderfeuerwehr
END:VEVENT
BEGIN:VEVENT
DTSTART;TZID=Europe/Berlin:20261006T193000
DTEND;TZID=Europe/Berlin:20261006T220000
DTSTAMP:20260422T192905
CREATED:20260109T092621Z
LAST-MODIFIED:20260109T092621Z
UID:24357-1791315000-1791324000@www.feuerwehr-gescher.de
SUMMARY:LZ Hochmoor: ABC-Übung mit Logistik Komponente
DESCRIPTION:
URL:https://www.feuerwehr-gescher.de/event/lz-hochmoor-abc-uebung-mit-logistik-komponente/
CATEGORIES:LZ Hochmoor
END:VEVENT
BEGIN:VEVENT
DTSTART;TZID=Europe/Berlin:20261008T193000
DTEND;TZID=Europe/Berlin:20261008T220000
DTSTAMP:20260422T192905
CREATED:20260105T145650Z
LAST-MODIFIED:20260105T145650Z
UID:24076-1791487800-1791496800@www.feuerwehr-gescher.de
SUMMARY:Dienstabend LZ Gescher: Großübung
DESCRIPTION:
URL:https://www.feuerwehr-gescher.de/event/dienstabend-lz-gescher-grossuebung/
CATEGORIES:LZ Gescher
END:VEVENT
BEGIN:VEVENT
DTSTART;TZID=Europe/Berlin:20261009T170000
DTEND;TZID=Europe/Berlin:20261009T183000
DTSTAMP:20260422T192905
CREATED:20260106T074903Z
LAST-MODIFIED:20260106T074903Z
UID:24232-1791565200-1791570600@www.feuerwehr-gescher.de
SUMMARY:Kinderfeuerwehr beide Gruppen: Abnahme Kinderflamme
DESCRIPTION:
URL:https://www.feuerwehr-gescher.de/event/kinderfeuerwehr-beide-gruppen-abnahme-kinderflamme/
CATEGORIES:Kinderfeuerwehr
END:VEVENT
BEGIN:VEVENT
DTSTART;TZID=Europe/Berlin:20261009T190000
DTEND;TZID=Europe/Berlin:20261009T220000
DTSTAMP:20260422T192905
CREATED:20260105T145742Z
LAST-MODIFIED:20260105T145742Z
UID:24078-1791572400-1791583200@www.feuerwehr-gescher.de
SUMMARY:Jahreshauptversammlung
DESCRIPTION:
URL:https://www.feuerwehr-gescher.de/event/jahreshauptversammlung/
CATEGORIES:Jugendfeuerwehr,LZ Gescher,LZ Hochmoor,Spielmannszug
END:VEVENT
BEGIN:VEVENT
DTSTART;TZID=Europe/Berlin:20261010T143000
DTEND;TZID=Europe/Berlin:20261010T170000
DTSTAMP:20260422T192905
CREATED:20260105T152955Z
LAST-MODIFIED:20260105T152955Z
UID:24165-1791642600-1791651600@www.feuerwehr-gescher.de
SUMMARY:Kreisbereitschaft: Dienst
DESCRIPTION:
URL:https://www.feuerwehr-gescher.de/event/kreisbereitschaft-dienst-22/
CATEGORIES:Kreisbereitschaft
END:VEVENT
BEGIN:VEVENT
DTSTART;TZID=Europe/Berlin:20261013T180000
DTEND;TZID=Europe/Berlin:20261013T200000
DTSTAMP:20260422T192905
CREATED:20260106T092537Z
LAST-MODIFIED:20260106T092537Z
UID:24300-1791914400-1791921600@www.feuerwehr-gescher.de
SUMMARY:Jugendfeuerwehr Gruppe A: Leitern FwDV10
DESCRIPTION:
URL:https://www.feuerwehr-gescher.de/event/jugendfeuerwehr-gruppe-a-leitern-fwdv10/
CATEGORIES:Jugendfeuerwehr
END:VEVENT
BEGIN:VEVENT
DTSTART;TZID=Europe/Berlin:20261013T193000
DTEND;TZID=Europe/Berlin:20261013T220000
DTSTAMP:20260422T192905
CREATED:20260109T092705Z
LAST-MODIFIED:20260109T092705Z
UID:24359-1791919800-1791928800@www.feuerwehr-gescher.de
SUMMARY:LZ Hochmoor: Übung mit dem Löschzug Velen
DESCRIPTION:
URL:https://www.feuerwehr-gescher.de/event/lz-hochmoor-uebung-mit-dem-loeschzug-velen/
CATEGORIES:LZ Hochmoor
END:VEVENT
BEGIN:VEVENT
DTSTART;TZID=Europe/Berlin:20261014T180000
DTEND;TZID=Europe/Berlin:20261014T200000
DTSTAMP:20260422T192905
CREATED:20260106T092615Z
LAST-MODIFIED:20260106T092615Z
UID:24302-1792000800-1792008000@www.feuerwehr-gescher.de
SUMMARY:Jugendfeuerwehr Gruppe B: Leitern FwDV10
DESCRIPTION:
URL:https://www.feuerwehr-gescher.de/event/jugendfeuerwehr-gruppe-b-leitern-fwdv10/
CATEGORIES:Jugendfeuerwehr
END:VEVENT
BEGIN:VEVENT
DTSTART;TZID=Europe/Berlin:20261020T193000
DTEND;TZID=Europe/Berlin:20261020T220000
DTSTAMP:20260422T192905
CREATED:20260109T092758Z
LAST-MODIFIED:20260109T092758Z
UID:24361-1792524600-1792533600@www.feuerwehr-gescher.de
SUMMARY:LZ Hochmoor: Schaumtrainer / Firetrainer / Notstromversorgung
DESCRIPTION:
URL:https://www.feuerwehr-gescher.de/event/lz-hochmoor-schaumtrainer-firetrainer-notstromversorgung/
CATEGORIES:LZ Hochmoor
END:VEVENT
BEGIN:VEVENT
DTSTART;TZID=Europe/Berlin:20261022T193000
DTEND;TZID=Europe/Berlin:20261022T220000
DTSTAMP:20260422T192905
CREATED:20260105T145840Z
LAST-MODIFIED:20260105T145840Z
UID:24080-1792697400-1792706400@www.feuerwehr-gescher.de
SUMMARY:Dienstabend LZ Gescher: Stationsausbildung TH\, Ausleuchten
DESCRIPTION:
URL:https://www.feuerwehr-gescher.de/event/dienstabend-lz-gescher-stationsausbildung-th-ausleuchten/
CATEGORIES:LZ Gescher
END:VEVENT
BEGIN:VEVENT
DTSTART;VALUE=DATE:20261024
DTEND;VALUE=DATE:20261025
DTSTAMP:20260422T192905
CREATED:20260106T071556Z
LAST-MODIFIED:20260106T071556Z
UID:24196-1792800000-1792886399@www.feuerwehr-gescher.de
SUMMARY:Tagesfahrt LZ Gescher mit Partner
DESCRIPTION:
URL:https://www.feuerwehr-gescher.de/event/tagesfahrt-lz-gescher-mit-partner/
CATEGORIES:Feste
END:VEVENT
BEGIN:VEVENT
DTSTART;TZID=Europe/Berlin:20261027T180000
DTEND;TZID=Europe/Berlin:20261027T200000
DTSTAMP:20260422T192905
CREATED:20260106T092705Z
LAST-MODIFIED:20260106T092705Z
UID:24304-1793124000-1793131200@www.feuerwehr-gescher.de
SUMMARY:Jugendfeuerwehr Gruppe A: Übung mit anderer Jugendfeuerwehr
DESCRIPTION:
URL:https://www.feuerwehr-gescher.de/event/jugendfeuerwehr-gruppe-a-uebung-mit-anderer-jugendfeuerwehr/
CATEGORIES:Jugendfeuerwehr
END:VEVENT
BEGIN:VEVENT
DTSTART;TZID=Europe/Berlin:20261028T180000
DTEND;TZID=Europe/Berlin:20261028T200000
DTSTAMP:20260422T192905
CREATED:20260106T092746Z
LAST-MODIFIED:20260106T092746Z
UID:24306-1793210400-1793217600@www.feuerwehr-gescher.de
SUMMARY:Jugendfeuerwehr Gruppe B: Übung mit anderer Jugendfeuerwehr
DESCRIPTION:
URL:https://www.feuerwehr-gescher.de/event/jugendfeuerwehr-gruppe-b-uebung-mit-anderer-jugendfeuerwehr/
CATEGORIES:Jugendfeuerwehr
END:VEVENT
END:VCALENDAR